BEGIN:VCALENDAR
VERSION:2.0
PRODID:-//Musikvereinigung Ebensfeld e.V. - ECPv6.4.0.1//NONSGML v1.0//EN
CALSCALE:GREGORIAN
METHOD:PUBLISH
X-WR-CALNAME:Musikvereinigung Ebensfeld e.V.
X-ORIGINAL-URL:https://musikvereinigung-ebensfeld.de
X-WR-CALDESC:Veranstaltungen für Musikvereinigung Ebensfeld e.V.
REFRESH-INTERVAL;VALUE=DURATION:PT1H
X-Robots-Tag:noindex
X-PUBLISHED-TTL:PT1H
BEGIN:VTIMEZONE
TZID:Europe/Berlin
BEGIN:DAYLIGHT
TZOFFSETFROM:+0100
TZOFFSETTO:+0200
TZNAME:CEST
DTSTART:20240331T010000
END:DAYLIGHT
BEGIN:STANDARD
TZOFFSETFROM:+0200
TZOFFSETTO:+0100
TZNAME:CET
DTSTART:20241027T010000
END:STANDARD
END:VTIMEZONE
BEGIN:VEVENT
DTSTART;TZID=Europe/Berlin:20241109T190000
DTEND;TZID=Europe/Berlin:20241109T213000
DTSTAMP:20260426T040917
CREATED:20241011T012457Z
LAST-MODIFIED:20241017T122734Z
UID:1622-1731178800-1731187800@musikvereinigung-ebensfeld.de
SUMMARY:Herbstkonzert der MVE
DESCRIPTION:„Imagasy“ ist ein Neologismus (Neuwort)\, welches sich aus den englischen Begriffen „imagination“ und „fantasy“ zusammensetzt. Im gleichnamigen Stück des Komponisten Thiemo Kraas greift dieser die beiden zunächst gegensätzlich erscheinenden Begriffe musikalisch auf und schafft ein eindrucksvolles und zugleich spannendes Klangerlebnis. \nUnter dem Motto „Imagasy“ wollen die Ensembles der Musikvereinigung Ebensfeld e.V. im Rahmen ihres Herbstkonzertes am Samstag\, 09.11.2024\, 19:00 Uhr in der Ebensfelder Turnhalle den Besucherinnen und Besuchern ein genau solches Klangerlebnis bieten. Neben dem Werk von Thiemo Kraas – gespielt vom Blasorchester Ebensfeld unter der Leitung von Kathrin Motschenbacher – dürfen sich die Gäste hierbei auf ein abwechslungsreiches und zugleich kurzweiliges Programm freuen. \nDer Einlass erfolgt ab 18:00 Uhr. Der Eintritt ist frei!
URL:https://musikvereinigung-ebensfeld.de/events/herbstkonzert-der-mve
LOCATION:Turnhalle Ebensfeld\, Rinnigstraße 4\, Ebensfeld\, 96250\, Deutschland
ORGANIZER;CN="Musikvereinigung Ebensfeld e.V.":MAILTO:info@musikvereinigung-ebensfeld.de
END:VEVENT
END:VCALENDAR