BEGIN:VCALENDAR
VERSION:2.0
PRODID:-//Musikvereinigung Ebensfeld e.V. - ECPv6.4.0.1//NONSGML v1.0//EN
CALSCALE:GREGORIAN
METHOD:PUBLISH
X-ORIGINAL-URL:https://musikvereinigung-ebensfeld.de
X-WR-CALDESC:Veranstaltungen für Musikvereinigung Ebensfeld e.V.
REFRESH-INTERVAL;VALUE=DURATION:PT1H
X-Robots-Tag:noindex
X-PUBLISHED-TTL:PT1H
BEGIN:VTIMEZONE
TZID:Europe/Berlin
BEGIN:DAYLIGHT
TZOFFSETFROM:+0100
TZOFFSETTO:+0200
TZNAME:CEST
DTSTART:20240331T010000
END:DAYLIGHT
BEGIN:STANDARD
TZOFFSETFROM:+0200
TZOFFSETTO:+0100
TZNAME:CET
DTSTART:20241027T010000
END:STANDARD
END:VTIMEZONE
BEGIN:VEVENT
DTSTART;TZID=Europe/Berlin:20241209T190000
DTEND;TZID=Europe/Berlin:20241209T203000
DTSTAMP:20260426T005555
CREATED:20241107T140510Z
LAST-MODIFIED:20241107T140510Z
UID:1650-1733770800-1733776200@musikvereinigung-ebensfeld.de
SUMMARY:Winterauftritt in der Rehaklinik Schwabthal mit "Bloos' A-Moll"
DESCRIPTION:Die Musikerinnen und Musiker von „Bloos‘ A-Moll“ sorgen am Montag\, den 09.12.2024 in der Rehaklinik Lautergrund Schwabthal für musikalische Unterhaltung. Zwischen 19:00 und 20:30 Uhr ist garantiert für jeden Besucher etwas geboten.
URL:https://musikvereinigung-ebensfeld.de/events/winterauftritt-in-der-rehaklinik-schwabthal-mit-bloos-a-moll
LOCATION:Rehaklinik Schwabthal\, Oskar-Schramm-Straße 1\, Bad Staffelstein\, 96231\, Deutschland
END:VEVENT
END:VCALENDAR