BEGIN:VCALENDAR
VERSION:2.0
PRODID:-//Musikvereinigung Ebensfeld e.V. - ECPv6.4.0.1//NONSGML v1.0//EN
CALSCALE:GREGORIAN
METHOD:PUBLISH
X-ORIGINAL-URL:https://musikvereinigung-ebensfeld.de
X-WR-CALDESC:Veranstaltungen für Musikvereinigung Ebensfeld e.V.
REFRESH-INTERVAL;VALUE=DURATION:PT1H
X-Robots-Tag:noindex
X-PUBLISHED-TTL:PT1H
BEGIN:VTIMEZONE
TZID:Europe/Berlin
BEGIN:DAYLIGHT
TZOFFSETFROM:+0100
TZOFFSETTO:+0200
TZNAME:CEST
DTSTART:20240331T010000
END:DAYLIGHT
BEGIN:STANDARD
TZOFFSETFROM:+0200
TZOFFSETTO:+0100
TZNAME:CET
DTSTART:20241027T010000
END:STANDARD
END:VTIMEZONE
BEGIN:VEVENT
DTSTART;TZID=Europe/Berlin:20241231T083000
DTEND;TZID=Europe/Berlin:20241231T163000
DTSTAMP:20260425T230345
CREATED:20241229T125144Z
LAST-MODIFIED:20241229T125144Z
UID:1729-1735633800-1735662600@musikvereinigung-ebensfeld.de
SUMMARY:Neujahrsanspielen im Gemeindegebiet Ebensfeld
DESCRIPTION:Am 31.12.2024 spielen die Musikerinnen und Musiker der Musikvereinigung Ebensfeld e.V. traditionell das neue Jahr an. Bei Marsch\, Polka und Walzer ziehen die Musikanten durch die Straßen\, wünschen ein „gutes neues Jahr“ und sammeln Spenden für die Vereinsarbeit der Ebensfelder Musikvereinigung.
URL:https://musikvereinigung-ebensfeld.de/events/neujahrsanspielen-im-gemeindegebiet-ebensfeld
LOCATION:Gemeindegebiet Ebensfeld\, Ebensfeld\, 96260\, Deutschland
ORGANIZER;CN="Musikvereinigung Ebensfeld e.V.":MAILTO:info@musikvereinigung-ebensfeld.de
END:VEVENT
END:VCALENDAR