BEGIN:VCALENDAR
VERSION:2.0
PRODID:-//Musikvereinigung Ebensfeld e.V. - ECPv6.4.0.1//NONSGML v1.0//EN
CALSCALE:GREGORIAN
METHOD:PUBLISH
X-ORIGINAL-URL:https://musikvereinigung-ebensfeld.de
X-WR-CALDESC:Veranstaltungen für Musikvereinigung Ebensfeld e.V.
REFRESH-INTERVAL;VALUE=DURATION:PT1H
X-Robots-Tag:noindex
X-PUBLISHED-TTL:PT1H
BEGIN:VTIMEZONE
TZID:Europe/Berlin
BEGIN:DAYLIGHT
TZOFFSETFROM:+0100
TZOFFSETTO:+0200
TZNAME:CEST
DTSTART:20250330T010000
END:DAYLIGHT
BEGIN:STANDARD
TZOFFSETFROM:+0200
TZOFFSETTO:+0100
TZNAME:CET
DTSTART:20251026T010000
END:STANDARD
END:VTIMEZONE
BEGIN:VEVENT
DTSTART;TZID=Europe/Berlin:20250413T100000
DTEND;TZID=Europe/Berlin:20250413T113000
DTSTAMP:20260425T175901
CREATED:20250212T214400Z
LAST-MODIFIED:20250212T214400Z
UID:1751-1744538400-1744543800@musikvereinigung-ebensfeld.de
SUMMARY:Palmprozession in Ebensfeld mit der MVE
DESCRIPTION:Am Palmsonntag\, 13. April findet in Ebensfeld traditionell ein Festgottesdienst mit anschließender Palmprozession statt.\nLos geht es mit der Segnung der Palmzweige am Ebensfelder Sämann-Brunnen\, anschließend wird in die Kirche zum Festgottesdienst eingezogen. Den Abschluss findet die Feierlichkeit dann mit der Palmprozession.\nDer festliche Umgang wird wieder durch ein Ensemble der Musikvereinigung Ebensfeld begleitet.
URL:https://musikvereinigung-ebensfeld.de/events/palmprozession-in-ebensfeld-mit-der-mve
LOCATION:Pfarrkirche Ebensfeld\, Kirchgasse 7\, Ebensfeld\, Bayern\, 96250\, Deutschland
END:VEVENT
END:VCALENDAR