BEGIN:VCALENDAR
VERSION:2.0
PRODID:-//Musikvereinigung Ebensfeld e.V. - ECPv6.4.0.1//NONSGML v1.0//EN
CALSCALE:GREGORIAN
METHOD:PUBLISH
X-WR-CALNAME:Musikvereinigung Ebensfeld e.V.
X-ORIGINAL-URL:https://musikvereinigung-ebensfeld.de
X-WR-CALDESC:Veranstaltungen für Musikvereinigung Ebensfeld e.V.
REFRESH-INTERVAL;VALUE=DURATION:PT1H
X-Robots-Tag:noindex
X-PUBLISHED-TTL:PT1H
BEGIN:VTIMEZONE
TZID:Europe/Berlin
BEGIN:DAYLIGHT
TZOFFSETFROM:+0100
TZOFFSETTO:+0200
TZNAME:CEST
DTSTART:20250330T010000
END:DAYLIGHT
BEGIN:STANDARD
TZOFFSETFROM:+0200
TZOFFSETTO:+0100
TZNAME:CET
DTSTART:20251026T010000
END:STANDARD
END:VTIMEZONE
BEGIN:VEVENT
DTSTART;TZID=Europe/Berlin:20250503T110000
DTEND;TZID=Europe/Berlin:20250503T140000
DTSTAMP:20260425T160303
CREATED:20250502T133037Z
LAST-MODIFIED:20250502T133037Z
UID:1947-1746270000-1746280800@musikvereinigung-ebensfeld.de
SUMMARY:Biergartenmusik bei der Brauerei Trunk mit Bloos' A-Moll
DESCRIPTION:Am Samstag\, den 03. Mai von ca. 11 bis 14 Uhr sorgt Bloos‘ A-Moll im Biergarten der Brauerei Trunk in Vierzehnheiligen für musikalische Unterhaltung.
URL:https://musikvereinigung-ebensfeld.de/events/biergartenmusik-bei-der-brauerei-trunk-mit-bloos-a-moll
LOCATION:Brauerei Trunk\, Vierzehnheiligen 3\, Bad Staffelstein\, Bayern\, 96231\, Deutschland
END:VEVENT
END:VCALENDAR