BEGIN:VCALENDAR
VERSION:2.0
PRODID:-//Musikvereinigung Ebensfeld e.V. - ECPv6.4.0.1//NONSGML v1.0//EN
CALSCALE:GREGORIAN
METHOD:PUBLISH
X-WR-CALNAME:Musikvereinigung Ebensfeld e.V.
X-ORIGINAL-URL:https://musikvereinigung-ebensfeld.de
X-WR-CALDESC:Veranstaltungen für Musikvereinigung Ebensfeld e.V.
REFRESH-INTERVAL;VALUE=DURATION:PT1H
X-Robots-Tag:noindex
X-PUBLISHED-TTL:PT1H
BEGIN:VTIMEZONE
TZID:Europe/Berlin
BEGIN:DAYLIGHT
TZOFFSETFROM:+0100
TZOFFSETTO:+0200
TZNAME:CEST
DTSTART:20250330T010000
END:DAYLIGHT
BEGIN:STANDARD
TZOFFSETFROM:+0200
TZOFFSETTO:+0100
TZNAME:CET
DTSTART:20251026T010000
END:STANDARD
END:VTIMEZONE
BEGIN:VEVENT
DTSTART;TZID=Europe/Berlin:20250504T094500
DTEND;TZID=Europe/Berlin:20250504T113000
DTSTAMP:20260425T160119
CREATED:20250318T091926Z
LAST-MODIFIED:20250318T091926Z
UID:1883-1746351900-1746358200@musikvereinigung-ebensfeld.de
SUMMARY:Musikalische Umrahmung der Jubelkommunion in Ebensfeld
DESCRIPTION:Am Sonntag\, 04.05.2025 spielt die Musikvereinigung anlässlich der Jubelkommunion zum Einzug in den Gottesdienst und im Anschluss zum Auszug und einem kleinen Standkonzert.
URL:https://musikvereinigung-ebensfeld.de/events/musikalische-umrahmung-der-jubelkommunion-in-ebensfeld
LOCATION:Pfarrkirche Ebensfeld\, Kirchgasse 7\, Ebensfeld\, Bayern\, 96250\, Deutschland
END:VEVENT
BEGIN:VEVENT
DTSTART;TZID=Europe/Berlin:20250504T140000
DTEND;TZID=Europe/Berlin:20250504T180000
DTSTAMP:20260425T160119
CREATED:20250318T092327Z
LAST-MODIFIED:20250318T092327Z
UID:1885-1746367200-1746381600@musikvereinigung-ebensfeld.de
SUMMARY:Musikfestival der Nachwuchskapellen und Bläserklassen in Mistelfeld mit unserer Juniorband und dem Jugendorchester
DESCRIPTION:Anlässlich des Leuchsentaler Heimatfestes spielen die Juniorband und das Jugendorchester der Musikvereinigung Ebensfeld beim traditionellen Nachwuchsfestival.
URL:https://musikvereinigung-ebensfeld.de/events/musikfestival-der-nachwuchskapellen-und-blaeserklassen-in-mistelfeld-mit-unserer-juniorband-und-dem-jugendorchester
LOCATION:Mistelfeld\, Mistelfeld\, 96215\, Deutschland
END:VEVENT
END:VCALENDAR