BEGIN:VCALENDAR
VERSION:2.0
PRODID:-//Musikvereinigung Ebensfeld e.V. - ECPv6.4.0.1//NONSGML v1.0//EN
CALSCALE:GREGORIAN
METHOD:PUBLISH
X-ORIGINAL-URL:https://musikvereinigung-ebensfeld.de
X-WR-CALDESC:Veranstaltungen für Musikvereinigung Ebensfeld e.V.
REFRESH-INTERVAL;VALUE=DURATION:PT1H
X-Robots-Tag:noindex
X-PUBLISHED-TTL:PT1H
BEGIN:VTIMEZONE
TZID:Europe/Berlin
BEGIN:DAYLIGHT
TZOFFSETFROM:+0100
TZOFFSETTO:+0200
TZNAME:CEST
DTSTART:20250330T010000
END:DAYLIGHT
BEGIN:STANDARD
TZOFFSETFROM:+0200
TZOFFSETTO:+0100
TZNAME:CET
DTSTART:20251026T010000
END:STANDARD
END:VTIMEZONE
BEGIN:VEVENT
DTSTART;TZID=Europe/Berlin:20250601T140000
DTEND;TZID=Europe/Berlin:20250601T170000
DTSTAMP:20260425T143914
CREATED:20250519T110120Z
LAST-MODIFIED:20250519T110120Z
UID:1956-1748786400-1748797200@musikvereinigung-ebensfeld.de
SUMMARY:Unterhaltungsmusik mit Bloos' A-Moll beim Metzgerbräu Uetzing
DESCRIPTION:Am Sonntag\, den 01. Juni spielt Bloos‘ A-Moll einen Unterhaltungsauftritt beim Metzgerbräu in Uetzing. Ab 14:00 Uhr können sich die Zuhörer nicht nur über das gute Bier des Metzgerbräus\, sondern auch über ein buntes Blasmusik-Programm freuen.
URL:https://musikvereinigung-ebensfeld.de/events/unterhaltungsmusik-mit-bloos-a-moll-beim-metzgerbraeu-uetzing
LOCATION:Metzgerbräu Uetzing\, Stublanger Str. 2\, Bad Staffelstein\, Bayern\, 96231\, Deutschland
END:VEVENT
END:VCALENDAR