BEGIN:VCALENDAR
VERSION:2.0
PRODID:-//Musikvereinigung Ebensfeld e.V. - ECPv6.4.0.1//NONSGML v1.0//EN
CALSCALE:GREGORIAN
METHOD:PUBLISH
X-ORIGINAL-URL:https://musikvereinigung-ebensfeld.de
X-WR-CALDESC:Veranstaltungen für Musikvereinigung Ebensfeld e.V.
REFRESH-INTERVAL;VALUE=DURATION:PT1H
X-Robots-Tag:noindex
X-PUBLISHED-TTL:PT1H
BEGIN:VTIMEZONE
TZID:Europe/Berlin
BEGIN:DAYLIGHT
TZOFFSETFROM:+0100
TZOFFSETTO:+0200
TZNAME:CEST
DTSTART:20250330T010000
END:DAYLIGHT
BEGIN:STANDARD
TZOFFSETFROM:+0200
TZOFFSETTO:+0100
TZNAME:CET
DTSTART:20251026T010000
END:STANDARD
END:VTIMEZONE
BEGIN:VEVENT
DTSTART;TZID=Europe/Berlin:20250619T080000
DTEND;TZID=Europe/Berlin:20250619T100000
DTSTAMP:20260424T140357
CREATED:20250519T111608Z
LAST-MODIFIED:20250519T111608Z
UID:1965-1750320000-1750327200@musikvereinigung-ebensfeld.de
SUMMARY:Musikalische Umrahmung der Kirchenparade und Prozession anlässlich des Fronleichnamsfestes
DESCRIPTION:Die Musikvereinigung Ebensfeld umrahmt die Kirchenparade und Prozession anlaässlich des Fronleichnamsfestes am 19.06.2025 musikalisch. Im Anschluss lädt die Musikvereinigung zu einem zünftigen Frühschoppen auf dem Ebensfelder Kirchplatz ein.
URL:https://musikvereinigung-ebensfeld.de/events/musikalische-umrahmung-der-kirchenparade-und-prozession-anlaesslich-des-fronleichnamsfestes
LOCATION:Pfarrkirche Ebensfeld\, Kirchgasse 7\, Ebensfeld\, Bayern\, 96250\, Deutschland
END:VEVENT
BEGIN:VEVENT
DTSTART;TZID=Europe/Berlin:20250619T100000
DTEND;TZID=Europe/Berlin:20250619T130000
DTSTAMP:20260424T140357
CREATED:20250519T111248Z
LAST-MODIFIED:20250525T161526Z
UID:1963-1750327200-1750338000@musikvereinigung-ebensfeld.de
SUMMARY:Frühschoppen zu Fronleichnam mit dem Blasorchester Ebensfeld
DESCRIPTION:Alle Besucherinnen und Besucher des Fronleichnam-Gottesdienstes und die gesamte Bevölkerung Ebensfelds und Umgebung\, dürfen sich am 19.06.2025 ab ca. 10:00 Uhr auf einen Frühschoppen mit zünftiger Blasmusik freuen. Nach der Prozession durch den Ortskern von Ebensfeld\, erwarten die Anwesenden kühle Getränke\, Speisen vom Grill und natürlich musikalische Unterhaltung mit dem Blasorchester Ebensfeld. Vor der imposanten Kulisse der Ebensfelder Pfarrkirche lässt es sich so bis in die Mittagsstunden aushalten. Die Musikvereinigung Ebensfeld e.V. freut sich auf euch!
URL:https://musikvereinigung-ebensfeld.de/events/fruehschoppen-zu-fronleichnam-mit-dem-blasorchester-ebensfeld
LOCATION:Pfarrkirche Ebensfeld\, Kirchgasse 7\, Ebensfeld\, Bayern\, 96250\, Deutschland
ORGANIZER;CN="Musikvereinigung Ebensfeld e.V.":MAILTO:info@musikvereinigung-ebensfeld.de
END:VEVENT
END:VCALENDAR