BEGIN:VCALENDAR
VERSION:2.0
PRODID:-//Musikvereinigung Ebensfeld e.V. - ECPv6.4.0.1//NONSGML v1.0//EN
CALSCALE:GREGORIAN
METHOD:PUBLISH
X-ORIGINAL-URL:https://musikvereinigung-ebensfeld.de
X-WR-CALDESC:Veranstaltungen für Musikvereinigung Ebensfeld e.V.
REFRESH-INTERVAL;VALUE=DURATION:PT1H
X-Robots-Tag:noindex
X-PUBLISHED-TTL:PT1H
BEGIN:VTIMEZONE
TZID:Europe/Berlin
BEGIN:DAYLIGHT
TZOFFSETFROM:+0100
TZOFFSETTO:+0200
TZNAME:CEST
DTSTART:20250330T010000
END:DAYLIGHT
BEGIN:STANDARD
TZOFFSETFROM:+0200
TZOFFSETTO:+0100
TZNAME:CET
DTSTART:20251026T010000
END:STANDARD
END:VTIMEZONE
BEGIN:VEVENT
DTSTART;TZID=Europe/Berlin:20250629T044500
DTEND;TZID=Europe/Berlin:20250629T120000
DTSTAMP:20260423T204017
CREATED:20250625T134626Z
LAST-MODIFIED:20250625T134626Z
UID:2009-1751172300-1751198400@musikvereinigung-ebensfeld.de
SUMMARY:Musikalische Umrahmung der Wallfahrt nach Vierzehnheiligen
DESCRIPTION:Am Sonntag\, den 29. Juni 2025\, begleiten die Musikerinnen und Musiker der MVE von 4:45 bis 12:00 Uhr musikalisch die traditionelle Wallfahrt von Ebensfeld nach Vierzehnheiligen. Freut euch auf festliche Klänge und eine besondere Atmosphäre entlang des Pilgerwegs und beim Gottesdienst in der Basilika. Wir laden alle herzlich ein\, diesen besonderen Tag gemeinsam mit uns musikalisch zu erleben!
URL:https://musikvereinigung-ebensfeld.de/events/musikalische-umrahmung-der-wallfahrt-nach-vierzehnheiligen-2
LOCATION:Pfarrkirche Ebensfeld\, Kirchgasse 7\, Ebensfeld\, Bayern\, 96250\, Deutschland
END:VEVENT
END:VCALENDAR