BEGIN:VCALENDAR
VERSION:2.0
PRODID:-//Musikvereinigung Ebensfeld e.V. - ECPv6.4.0.1//NONSGML v1.0//EN
CALSCALE:GREGORIAN
METHOD:PUBLISH
X-ORIGINAL-URL:https://musikvereinigung-ebensfeld.de
X-WR-CALDESC:Veranstaltungen für Musikvereinigung Ebensfeld e.V.
REFRESH-INTERVAL;VALUE=DURATION:PT1H
X-Robots-Tag:noindex
X-PUBLISHED-TTL:PT1H
BEGIN:VTIMEZONE
TZID:Europe/Berlin
BEGIN:DAYLIGHT
TZOFFSETFROM:+0100
TZOFFSETTO:+0200
TZNAME:CEST
DTSTART:20250330T010000
END:DAYLIGHT
BEGIN:STANDARD
TZOFFSETFROM:+0200
TZOFFSETTO:+0100
TZNAME:CET
DTSTART:20251026T010000
END:STANDARD
END:VTIMEZONE
BEGIN:VEVENT
DTSTART;TZID=Europe/Berlin:20250702T130000
DTEND;TZID=Europe/Berlin:20250702T140000
DTSTAMP:20260423T171559
CREATED:20250625T134952Z
LAST-MODIFIED:20250625T134952Z
UID:2011-1751461200-1751464800@musikvereinigung-ebensfeld.de
SUMMARY:Richtfest des Klinikums Kutzenberg mit dem Blasorchester
DESCRIPTION:Das Blasorchester der Musikvereinigung Ebensfeld e.V. umrahmt das Richtfest des Klinikums Kutzenberg am 02. Juli um 13 Uhr musikalisch.
URL:https://musikvereinigung-ebensfeld.de/events/richtfest-des-klinikums-kutzenberg-mit-dem-blasorchester
LOCATION:Kutzenberg\, Kutzenberg\, Bayern\, 96250\, Deutschland
END:VEVENT
END:VCALENDAR