BEGIN:VCALENDAR
VERSION:2.0
PRODID:-//Musikvereinigung Ebensfeld e.V. - ECPv6.4.0.1//NONSGML v1.0//EN
CALSCALE:GREGORIAN
METHOD:PUBLISH
X-ORIGINAL-URL:https://musikvereinigung-ebensfeld.de
X-WR-CALDESC:Veranstaltungen für Musikvereinigung Ebensfeld e.V.
REFRESH-INTERVAL;VALUE=DURATION:PT1H
X-Robots-Tag:noindex
X-PUBLISHED-TTL:PT1H
BEGIN:VTIMEZONE
TZID:Europe/Berlin
BEGIN:DAYLIGHT
TZOFFSETFROM:+0100
TZOFFSETTO:+0200
TZNAME:CEST
DTSTART:20250330T010000
END:DAYLIGHT
BEGIN:STANDARD
TZOFFSETFROM:+0200
TZOFFSETTO:+0100
TZNAME:CET
DTSTART:20251026T010000
END:STANDARD
END:VTIMEZONE
BEGIN:VEVENT
DTSTART;VALUE=DATE:20250831
DTEND;VALUE=DATE:20250901
DTSTAMP:20260423T153750
CREATED:20250708T005913Z
LAST-MODIFIED:20250708T005913Z
UID:2048-1756598400-1756684799@musikvereinigung-ebensfeld.de
SUMMARY:Festzug anlässlich des Feuerwehrfests in Wolfsdorf mit dem Blasorchester Ebensfeld
DESCRIPTION:Am Wochenende vom 28.08. bis 01.09. feiert die Freiwillige Feuerwehr Wolfsdorf ihr 125-jähriges Jubiläum. Einer der Höhepunkte hierbei wird sicherlich der Festzug am Festsonntag sein. Das Blasorchester der Musikvereinigung Ebensfeld e.V. sorgt hierbei nicht nur für die musikalische Umrahmung\, sondern auch für den richtigen Rhythmus.
URL:https://musikvereinigung-ebensfeld.de/events/festzug-anlaesslich-des-feuerwehrfests-in-wolfsdorf-mit-dem-blasorchester-ebensfeld
LOCATION:Wolfsdorf\, Wolfsdorf\, Bayern\, 96231\, Deutschland
END:VEVENT
END:VCALENDAR