BEGIN:VCALENDAR
VERSION:2.0
PRODID:-//Musikvereinigung Ebensfeld e.V. - ECPv6.4.0.1//NONSGML v1.0//EN
CALSCALE:GREGORIAN
METHOD:PUBLISH
X-WR-CALNAME:Musikvereinigung Ebensfeld e.V.
X-ORIGINAL-URL:https://musikvereinigung-ebensfeld.de
X-WR-CALDESC:Veranstaltungen für Musikvereinigung Ebensfeld e.V.
REFRESH-INTERVAL;VALUE=DURATION:PT1H
X-Robots-Tag:noindex
X-PUBLISHED-TTL:PT1H
BEGIN:VTIMEZONE
TZID:Europe/Berlin
BEGIN:DAYLIGHT
TZOFFSETFROM:+0100
TZOFFSETTO:+0200
TZNAME:CEST
DTSTART:20250330T010000
END:DAYLIGHT
BEGIN:STANDARD
TZOFFSETFROM:+0200
TZOFFSETTO:+0100
TZNAME:CET
DTSTART:20251026T010000
END:STANDARD
END:VTIMEZONE
BEGIN:VEVENT
DTSTART;TZID=Europe/Berlin:20250919T180000
DTEND;TZID=Europe/Berlin:20250919T213000
DTSTAMP:20260424T121325
CREATED:20250825T075249Z
LAST-MODIFIED:20250829T185552Z
UID:2090-1758304800-1758317400@musikvereinigung-ebensfeld.de
SUMMARY:Aufstellen des Ebensfelder Kirchweihbaums und Unterhaltungsmusik mit dem Blasorchester Ebensfeld
DESCRIPTION:Eine Woche nach der Grieser Kerwa umrahmt das Blasorchester Ebensfeld die Eröffnung der Ebensfelder Kirchweih musikalisch. Nachdem der Kirchweihbaum mit Marschmusik von der Friedenslinde zum Feuerwehrhaus begleitet wurde\, sorgen die Musikerinnen und Musiker während des Aufstellens ebenfalls für Unterhaltung. Auch wenn der Baum dann steht\, gibt es keinen Grund nach Hause zu gehen. Bis in die Abendstunden bereitet das Blasorchester mit einem stimmungsvollen Programm einen kurzweiligen Abend für alle Kerwasgäste.
URL:https://musikvereinigung-ebensfeld.de/events/aufstellen-des-ebensfelder-kirchweihbaums-und-unterhaltungsmusik-mit-dem-blasorchester-ebensfeld-2
LOCATION:Feuerwehrhaus Ebensfeld\, Rinnigstraße 2\, Ebensfeld\, Bayern\, 96250\, Deutschland
END:VEVENT
END:VCALENDAR