BEGIN:VCALENDAR
VERSION:2.0
PRODID:-//Musikvereinigung Ebensfeld e.V. - ECPv6.4.0.1//NONSGML v1.0//EN
CALSCALE:GREGORIAN
METHOD:PUBLISH
X-ORIGINAL-URL:https://musikvereinigung-ebensfeld.de
X-WR-CALDESC:Veranstaltungen für Musikvereinigung Ebensfeld e.V.
REFRESH-INTERVAL;VALUE=DURATION:PT1H
X-Robots-Tag:noindex
X-PUBLISHED-TTL:PT1H
BEGIN:VTIMEZONE
TZID:Europe/Berlin
BEGIN:DAYLIGHT
TZOFFSETFROM:+0100
TZOFFSETTO:+0200
TZNAME:CEST
DTSTART:20250330T010000
END:DAYLIGHT
BEGIN:STANDARD
TZOFFSETFROM:+0200
TZOFFSETTO:+0100
TZNAME:CET
DTSTART:20251026T010000
END:STANDARD
END:VTIMEZONE
BEGIN:VEVENT
DTSTART;TZID=Europe/Berlin:20251005T093000
DTEND;TZID=Europe/Berlin:20251005T093000
DTSTAMP:20260421T151313
CREATED:20251004T191241Z
LAST-MODIFIED:20251004T191316Z
UID:2144-1759656600-1759656600@musikvereinigung-ebensfeld.de
SUMMARY:Musikalische Umrahmung der Feierlichkeiten anlässlich „30 Jahre partnerschaftliche Beziehungen mit den Schönbornfranken“ auf dem Ebensfelder Kirchplatz mit dem Blasorchester
DESCRIPTION:Das Blasorchester Ebensfeld umrahmt die Feierlichkeiten anlässlich „30 Jahre partnerschaftliche Beziehungen mit den Schönbornfranken“ am 05.10.2025 musikalisch. Los geht’s um 09:30 Uhr mit der Abholung des Erzbischofs und der Ehrengäste am Ebensfelder Rathaus. Mit Marschmusik geht es schließlich in Richtung Pfarrkirche. Auch nach dem Gottesdienst\, lässt die Musikvereinigung es sich nicht nehmen\, die Besucherinnen und Besucher mit einem Standkonzert auf das weitere Nachmittagsprogramm einzustimmen.
URL:https://musikvereinigung-ebensfeld.de/events/musikalische-umrahmung-der-feierlichkeiten-anlaesslich-30-jahre-partnerschaftliche-beziehungen-mit-den-schoenbornfranken-auf-dem-ebensfelder-kirchplatz-mit-dem-blasorchester
LOCATION:Pfarrkirche Ebensfeld\, Kirchgasse 7\, Ebensfeld\, Bayern\, 96250\, Deutschland
END:VEVENT
END:VCALENDAR