BEGIN:VCALENDAR
VERSION:2.0
PRODID:-//Musikvereinigung Ebensfeld e.V. - ECPv6.4.0.1//NONSGML v1.0//EN
CALSCALE:GREGORIAN
METHOD:PUBLISH
X-ORIGINAL-URL:https://musikvereinigung-ebensfeld.de
X-WR-CALDESC:Veranstaltungen für Musikvereinigung Ebensfeld e.V.
REFRESH-INTERVAL;VALUE=DURATION:PT1H
X-Robots-Tag:noindex
X-PUBLISHED-TTL:PT1H
BEGIN:VTIMEZONE
TZID:Europe/Berlin
BEGIN:DAYLIGHT
TZOFFSETFROM:+0100
TZOFFSETTO:+0200
TZNAME:CEST
DTSTART:20250330T010000
END:DAYLIGHT
BEGIN:STANDARD
TZOFFSETFROM:+0200
TZOFFSETTO:+0100
TZNAME:CET
DTSTART:20251026T010000
END:STANDARD
END:VTIMEZONE
BEGIN:VEVENT
DTSTART;TZID=Europe/Berlin:20251005T160000
DTEND;TZID=Europe/Berlin:20251005T180000
DTSTAMP:20260421T151253
CREATED:20250829T182831Z
LAST-MODIFIED:20251004T201058Z
UID:2098-1759680000-1759687200@musikvereinigung-ebensfeld.de
SUMMARY:Prächtinger Kerwa in der Presslermühle mit Bloos' A-Moll
DESCRIPTION:Am Sonntag\, den 05.10.2025 spielt Bloos‘ A-Moll zur Prächtinger Kerwa auf. Am Wirtshaus zur Presslermühle erwartet die Zuhörer ein buntes Programm von traditioneller bis moderner Blasmusik. Die Musikvereinigung Ebensfeld e.V. freut sich auf euren Besuch!
URL:https://musikvereinigung-ebensfeld.de/events/praechtinger-kerwa-in-der-presslermuehle-mit-bloos-a-moll
LOCATION:Wirtshaus zur Presslermühle\, Presslermühle 1\, Ebensfeld\, 96250\, Germany
END:VEVENT
END:VCALENDAR