BEGIN:VCALENDAR
VERSION:2.0
PRODID:-//Musikvereinigung Ebensfeld e.V. - ECPv6.4.0.1//NONSGML v1.0//EN
CALSCALE:GREGORIAN
METHOD:PUBLISH
X-WR-CALNAME:Musikvereinigung Ebensfeld e.V.
X-ORIGINAL-URL:https://musikvereinigung-ebensfeld.de
X-WR-CALDESC:Veranstaltungen für Musikvereinigung Ebensfeld e.V.
REFRESH-INTERVAL;VALUE=DURATION:PT1H
X-Robots-Tag:noindex
X-PUBLISHED-TTL:PT1H
BEGIN:VTIMEZONE
TZID:Europe/Berlin
BEGIN:DAYLIGHT
TZOFFSETFROM:+0100
TZOFFSETTO:+0200
TZNAME:CEST
DTSTART:20250330T010000
END:DAYLIGHT
BEGIN:STANDARD
TZOFFSETFROM:+0200
TZOFFSETTO:+0100
TZNAME:CET
DTSTART:20251026T010000
END:STANDARD
END:VTIMEZONE
BEGIN:VEVENT
DTSTART;TZID=Europe/Berlin:20251025T170000
DTEND;TZID=Europe/Berlin:20251025T230000
DTSTAMP:20260421T151144
CREATED:20251014T162825Z
LAST-MODIFIED:20251014T162825Z
UID:2192-1761411600-1761433200@musikvereinigung-ebensfeld.de
SUMMARY:Ehrungsabend der Blaskapelle Mürsbach mit den Maascheißern
DESCRIPTION:Die Blaskapelle Mürsbach feiert! Und wir sind dabei! Die Ebensfelder Maascheißer umrahmen nicht nur den offiziellen Teil des Ehrungsabends am Samstag\, 25. Oktober ab 17:00 Uhr im SONNEN-Bräu\, sondern sorgen auch im Anschluss für Unterhaltung. Mit Klassikern der traditionellen Blasmusik bis hin zu aktuellen Pop-Hits ist sicherlich für jeden etwas dabei.
URL:https://musikvereinigung-ebensfeld.de/events/ehrungsabend-der-blaskapelle-muersbach-mit-den-maascheissern
LOCATION:SONNEN-BRÄU Mürsbach\, Zaugendorfer Straße 4\, Rattelsdorf\, 96179\, Deutschland
END:VEVENT
END:VCALENDAR