BEGIN:VCALENDAR
VERSION:2.0
PRODID:-//Musikvereinigung Ebensfeld e.V. - ECPv6.4.0.1//NONSGML v1.0//EN
CALSCALE:GREGORIAN
METHOD:PUBLISH
X-ORIGINAL-URL:https://musikvereinigung-ebensfeld.de
X-WR-CALDESC:Veranstaltungen für Musikvereinigung Ebensfeld e.V.
REFRESH-INTERVAL;VALUE=DURATION:PT1H
X-Robots-Tag:noindex
X-PUBLISHED-TTL:PT1H
BEGIN:VTIMEZONE
TZID:Europe/Berlin
BEGIN:DAYLIGHT
TZOFFSETFROM:+0100
TZOFFSETTO:+0200
TZNAME:CEST
DTSTART:20250330T010000
END:DAYLIGHT
BEGIN:STANDARD
TZOFFSETFROM:+0200
TZOFFSETTO:+0100
TZNAME:CET
DTSTART:20251026T010000
END:STANDARD
END:VTIMEZONE
BEGIN:VEVENT
DTSTART;TZID=Europe/Berlin:20251123T100000
DTEND;TZID=Europe/Berlin:20251123T110000
DTSTAMP:20260421T132642
CREATED:20251022T154901Z
LAST-MODIFIED:20251119T154405Z
UID:2209-1763892000-1763895600@musikvereinigung-ebensfeld.de
SUMMARY:Cäcilia-Gedenkgottesdienst in Ebensfeld
DESCRIPTION:Am Sonntag\, 23.11.2025\, laden wir herzlich zum Cäcilia-Gottesdienst um 10 Uhr in der Pfarrkirche Ebensfeld ein. Der Gottesdienst steht ganz im Zeichen der heiligen Cäcilia\, der Schutzpatronin der Musiker und Kirchenmusik. \nMusikalisch umrahmt wird der Gottesdienst vom Blasorchester Ebensfeld\, das mit seinen Klängen und mit Gesang die besondere Verbindung von Musik und Spiritualität feiert. Kommt vorbei und erlebt mit uns ein festliches musikalisches Gemeinschaftserlebnis!
URL:https://musikvereinigung-ebensfeld.de/events/caecilia-gedenkgottesdienst-in-ebensfeld-2
LOCATION:Pfarrkirche Ebensfeld\, Kirchgasse 7\, Ebensfeld\, Bayern\, 96250\, Deutschland
END:VEVENT
END:VCALENDAR