BEGIN:VCALENDAR
VERSION:2.0
PRODID:-//Musikvereinigung Ebensfeld e.V. - ECPv6.4.0.1//NONSGML v1.0//EN
CALSCALE:GREGORIAN
METHOD:PUBLISH
X-ORIGINAL-URL:https://musikvereinigung-ebensfeld.de
X-WR-CALDESC:Veranstaltungen für Musikvereinigung Ebensfeld e.V.
REFRESH-INTERVAL;VALUE=DURATION:PT1H
X-Robots-Tag:noindex
X-PUBLISHED-TTL:PT1H
BEGIN:VTIMEZONE
TZID:Europe/Berlin
BEGIN:DAYLIGHT
TZOFFSETFROM:+0100
TZOFFSETTO:+0200
TZNAME:CEST
DTSTART:20250330T010000
END:DAYLIGHT
BEGIN:STANDARD
TZOFFSETFROM:+0200
TZOFFSETTO:+0100
TZNAME:CET
DTSTART:20251026T010000
END:STANDARD
END:VTIMEZONE
BEGIN:VEVENT
DTSTART;TZID=Europe/Berlin:20251129T193000
DTEND;TZID=Europe/Berlin:20251129T233000
DTSTAMP:20260421T114544
CREATED:20251022T155133Z
LAST-MODIFIED:20251022T155133Z
UID:2211-1764444600-1764459000@musikvereinigung-ebensfeld.de
SUMMARY:Ebensfelder Preisschafkopf
DESCRIPTION:>>> Ebensfelder Preisschafkopf 2025 <<< \n• Samstag\, 29.11.2025\n• Feuerwehrhaus Ebensfeld (Rinnigstraße 2)\n• Startgebühr: 10€\n• 1. Preis: 250€ / 2. Preis: 150€ / 3. Preis: 75€\n• Jeder Teilnehmer bekommt einen Preis\n• Kurzes Blatt mit Wenz & Geier \nAm Samstag\, 29.11.2025 wird in Ebensfeld wieder „aufgekadd“! Ab 19:30 Uhr findet im Ebensfelder Feuerwehrhaus der alljährliche Preisschafkopf des Fördervereins der MVE statt. Bei Bier und Wörschd wird sich herausstellen\, wer der nächste Schafkopfmeister wird und wer sich auf das Preisgeld von 250€ freuen darf. Natürlich geht der Rest auch nicht mit leeren Händen nach Hause: Rainer Keller war in den letzten Monaten wieder auf Achse und hat etliche wertvolle Preise gesammelt. Auf ein gutes Blatt!
URL:https://musikvereinigung-ebensfeld.de/events/ebensfelder-preisschafkopf-2
LOCATION:Feuerwehrhaus Ebensfeld\, Rinnigstraße 2\, Ebensfeld\, Bayern\, 96250\, Deutschland
ATTACH;FMTTYPE=image/png:https://musikvereinigung-ebensfeld.de/wp-content/uploads/2025/10/Preisschafkopf-2025Plakat-30.1-x-42.4-cm-1920-x-1080-px.png
END:VEVENT
END:VCALENDAR