BEGIN:VCALENDAR
VERSION:2.0
PRODID:-//Musikvereinigung Ebensfeld e.V. - ECPv6.4.0.1//NONSGML v1.0//EN
CALSCALE:GREGORIAN
METHOD:PUBLISH
X-WR-CALNAME:Musikvereinigung Ebensfeld e.V.
X-ORIGINAL-URL:https://musikvereinigung-ebensfeld.de
X-WR-CALDESC:Veranstaltungen für Musikvereinigung Ebensfeld e.V.
REFRESH-INTERVAL;VALUE=DURATION:PT1H
X-Robots-Tag:noindex
X-PUBLISHED-TTL:PT1H
BEGIN:VTIMEZONE
TZID:Europe/Berlin
BEGIN:DAYLIGHT
TZOFFSETFROM:+0100
TZOFFSETTO:+0200
TZNAME:CEST
DTSTART:20250330T010000
END:DAYLIGHT
BEGIN:STANDARD
TZOFFSETFROM:+0200
TZOFFSETTO:+0100
TZNAME:CET
DTSTART:20251026T010000
END:STANDARD
END:VTIMEZONE
BEGIN:VEVENT
DTSTART;TZID=Europe/Berlin:20251207T133000
DTEND;TZID=Europe/Berlin:20251207T140000
DTSTAMP:20260420T184313
CREATED:20251121T095354Z
LAST-MODIFIED:20251121T095354Z
UID:2273-1765114200-1765116000@musikvereinigung-ebensfeld.de
SUMMARY:Ebensfelder Weihnachtsmarkt mit der Juniorband & dem Jugendorchester
DESCRIPTION:Die Juniorband und das Jugendorchester der Musikvereinigung Ebensfeld e.V. umrahmen den Ebensfelder Weihnachtsmarkt am 07.12.2025 auf dem Kirchplatz musikalisch. Ab 13:30 Uhr sorgen die jungen Musikanten mit ihren Klängen für vorweihnachtliche Stimmung.
URL:https://musikvereinigung-ebensfeld.de/events/ebensfelder-weihnachtsmarkt-mit-der-juniorband-dem-jugendorchester
LOCATION:Pfarrkirche Ebensfeld\, Kirchgasse 7\, Ebensfeld\, Bayern\, 96250\, Deutschland
END:VEVENT
END:VCALENDAR