BEGIN:VCALENDAR
VERSION:2.0
PRODID:-//Musikvereinigung Ebensfeld e.V. - ECPv6.4.0.1//NONSGML v1.0//EN
CALSCALE:GREGORIAN
METHOD:PUBLISH
X-ORIGINAL-URL:https://musikvereinigung-ebensfeld.de
X-WR-CALDESC:Veranstaltungen für Musikvereinigung Ebensfeld e.V.
REFRESH-INTERVAL;VALUE=DURATION:PT1H
X-Robots-Tag:noindex
X-PUBLISHED-TTL:PT1H
BEGIN:VTIMEZONE
TZID:Europe/Berlin
BEGIN:DAYLIGHT
TZOFFSETFROM:+0100
TZOFFSETTO:+0200
TZNAME:CEST
DTSTART:20240331T010000
END:DAYLIGHT
BEGIN:STANDARD
TZOFFSETFROM:+0200
TZOFFSETTO:+0100
TZNAME:CET
DTSTART:20241027T010000
END:STANDARD
END:VTIMEZONE
BEGIN:VEVENT
DTSTART;TZID=Europe/Berlin:20241003T133000
DTEND;TZID=Europe/Berlin:20241003T163000
DTSTAMP:20260426T041146
CREATED:20240913T111620Z
LAST-MODIFIED:20240919T082513Z
UID:1598-1727962200-1727973000@musikvereinigung-ebensfeld.de
SUMMARY:Biertag Reundorf mit den "Ebensfelder Maascheißern"
DESCRIPTION:Erstmals spielen die „Ebensfelder Maascheißer“ am Tag der Deutschen Einheit auf dem Reundorfer Biertag musikalisch auf. Ab 13:30 Uhr erwartet die Besucherinnen und Besucher nicht nur eine große Auswahl regionaler Biersorten vom Fass\, sondern auch ein abwechslungsreiches Programm an Blasmusik von Böhmisch bis Modern.
URL:https://musikvereinigung-ebensfeld.de/events/bierfest-reundorf-mit-den-ebensfelder-maascheissern
LOCATION:Reundorf\, Reundorf\, 96215\, Deutschland
END:VEVENT
BEGIN:VEVENT
DTSTART;TZID=Europe/Berlin:20241006T100000
DTEND;TZID=Europe/Berlin:20241006T120000
DTSTAMP:20260426T041146
CREATED:20240913T113559Z
LAST-MODIFIED:20240913T114944Z
UID:1603-1728208800-1728216000@musikvereinigung-ebensfeld.de
SUMMARY:Frühschoppen zum Jubiläum 50 Jahre Gartenbauverein Oberleiterbach mit den "Ebensfelder Maascheißern"
DESCRIPTION:50 Jahre Gartenbauverein Oberleiterbach: Ein Grund zu feiern! \nAnlässlich ihres Jubiläums veranstaltet der Gartenbauverein Oberleiterbach am 04. und 06. Oktober ein großes Jubiläumsfest. Nachdem die Band „Point 6“ Freitagabend das Feierwochenende eingeläutet haben\, übernehmen die „Ebensfelder Maascheißer“ am Sonntagvormittag das „musikalische Ruder“. Bei Weißwürsten und reichlich Kaltgetränken\, erwartet die Besucherinnen und Besucher ab 10 Uhr ein buntes Programm an Blasmusik in all ihren Facetten. Wir sehen uns! \n 
URL:https://musikvereinigung-ebensfeld.de/events/fruehschoppen-zum-jubilaeumsfest-50-jahre-gartenbauverein-oberleiterbach-mit-den-ebensfelder-maascheissern
LOCATION:Festzelt am Gemeinschaftshaus Oberleiterbach\, Eichenweg 8\, Zapfendorf\, 96199\, Deutschland
END:VEVENT
END:VCALENDAR