BEGIN:VCALENDAR
VERSION:2.0
PRODID:-//Musikvereinigung Ebensfeld e.V. - ECPv6.4.0.1//NONSGML v1.0//EN
CALSCALE:GREGORIAN
METHOD:PUBLISH
X-ORIGINAL-URL:https://musikvereinigung-ebensfeld.de
X-WR-CALDESC:Veranstaltungen für Musikvereinigung Ebensfeld e.V.
REFRESH-INTERVAL;VALUE=DURATION:PT1H
X-Robots-Tag:noindex
X-PUBLISHED-TTL:PT1H
BEGIN:VTIMEZONE
TZID:Europe/Berlin
BEGIN:DAYLIGHT
TZOFFSETFROM:+0100
TZOFFSETTO:+0200
TZNAME:CEST
DTSTART:20240331T010000
END:DAYLIGHT
BEGIN:STANDARD
TZOFFSETFROM:+0200
TZOFFSETTO:+0100
TZNAME:CET
DTSTART:20241027T010000
END:STANDARD
END:VTIMEZONE
BEGIN:VEVENT
DTSTART;TZID=Europe/Berlin:20241101T140000
DTEND;TZID=Europe/Berlin:20241101T150000
DTSTAMP:20260426T005811
CREATED:20241007T163203Z
LAST-MODIFIED:20241007T163203Z
UID:1620-1730469600-1730473200@musikvereinigung-ebensfeld.de
SUMMARY:Musikalische Umrahmung des Friedhofsgangs an Allerheiligen durch die MVE
DESCRIPTION:An Allerheiligen umrahmen die Musikerinnen und Musiker der MVE den alljährlichen Friedhofsgang in Ebensfeld. Der Beginn ist um 14:00 Uhr.
URL:https://musikvereinigung-ebensfeld.de/events/musikalische-umrahmung-des-friedhofsgangs-an-allerheiligen-durch-die-mve
LOCATION:Friedhof Ebensfeld\, Prächtinger Straße 19\, Ebensfeld\, Bayern\, 96250\, Deutschland
END:VEVENT
BEGIN:VEVENT
DTSTART;TZID=Europe/Berlin:20241109T190000
DTEND;TZID=Europe/Berlin:20241109T213000
DTSTAMP:20260426T005811
CREATED:20241011T012457Z
LAST-MODIFIED:20241017T122734Z
UID:1622-1731178800-1731187800@musikvereinigung-ebensfeld.de
SUMMARY:Herbstkonzert der MVE
DESCRIPTION:„Imagasy“ ist ein Neologismus (Neuwort)\, welches sich aus den englischen Begriffen „imagination“ und „fantasy“ zusammensetzt. Im gleichnamigen Stück des Komponisten Thiemo Kraas greift dieser die beiden zunächst gegensätzlich erscheinenden Begriffe musikalisch auf und schafft ein eindrucksvolles und zugleich spannendes Klangerlebnis. \nUnter dem Motto „Imagasy“ wollen die Ensembles der Musikvereinigung Ebensfeld e.V. im Rahmen ihres Herbstkonzertes am Samstag\, 09.11.2024\, 19:00 Uhr in der Ebensfelder Turnhalle den Besucherinnen und Besuchern ein genau solches Klangerlebnis bieten. Neben dem Werk von Thiemo Kraas – gespielt vom Blasorchester Ebensfeld unter der Leitung von Kathrin Motschenbacher – dürfen sich die Gäste hierbei auf ein abwechslungsreiches und zugleich kurzweiliges Programm freuen. \nDer Einlass erfolgt ab 18:00 Uhr. Der Eintritt ist frei!
URL:https://musikvereinigung-ebensfeld.de/events/herbstkonzert-der-mve
LOCATION:Turnhalle Ebensfeld\, Rinnigstraße 4\, Ebensfeld\, 96250\, Deutschland
ORGANIZER;CN="Musikvereinigung Ebensfeld e.V.":MAILTO:info@musikvereinigung-ebensfeld.de
END:VEVENT
BEGIN:VEVENT
DTSTART;TZID=Europe/Berlin:20241117T100000
DTEND;TZID=Europe/Berlin:20241117T110000
DTSTAMP:20260426T005811
CREATED:20241107T135619Z
LAST-MODIFIED:20241107T135619Z
UID:1646-1731837600-1731841200@musikvereinigung-ebensfeld.de
SUMMARY:Musikalische Umrahmung des Volkstrauertags durch die MVE
DESCRIPTION:Die Musikvereinigung umrahmt die alljährlichen Feierlichkeiten zum Volkstrauertag am Sonntag\, den 17.11.2024. Nach dem Gottesdienst findet eine kurze Gedenkveranstaltung am Kriegerdenkmal neben der Ebensfelder Pfarrkirche statt.
URL:https://musikvereinigung-ebensfeld.de/events/musikalische-umrahmung-des-volkstrauertags-durch-die-mve
LOCATION:Pfarrkirche Ebensfeld\, Kirchgasse 7\, Ebensfeld\, Bayern\, 96250\, Deutschland
END:VEVENT
BEGIN:VEVENT
DTSTART;TZID=Europe/Berlin:20241124T100000
DTEND;TZID=Europe/Berlin:20241124T110000
DTSTAMP:20260426T005811
CREATED:20241107T135918Z
LAST-MODIFIED:20241107T135918Z
UID:1648-1732442400-1732446000@musikvereinigung-ebensfeld.de
SUMMARY:Cäcilia-Gedenkgottesdienst in Ebensfeld
DESCRIPTION:Alljährlich gedenkt die Musikerfamilie in einem musikalisch umrahmten Festgottesdienst zu Ehren der Heiligen Caecilia ihrer lebenden und insbesondere verstorbenen Mitglieder.
URL:https://musikvereinigung-ebensfeld.de/events/caecilia-gedenkgottesdienst-in-ebensfeld
LOCATION:Pfarrkirche Ebensfeld\, Kirchgasse 7\, Ebensfeld\, Bayern\, 96250\, Deutschland
END:VEVENT
BEGIN:VEVENT
DTSTART;TZID=Europe/Berlin:20241130T193000
DTEND;TZID=Europe/Berlin:20241130T233000
DTSTAMP:20260426T005811
CREATED:20241105T223245Z
LAST-MODIFIED:20241105T223245Z
UID:1633-1732995000-1733009400@musikvereinigung-ebensfeld.de
SUMMARY:Ebensfelder Preisschafkopf
DESCRIPTION:>>> Ebensfelder Preisschafkopf 2024 <<<\n\n• Samstag\, 30.11.2024• Feuerwehrhaus Ebensfeld (Rinnigstraße 2)• Startgebühr: 10€• 1. Preis: 250€ / 2. Preis: 150€ / 3. Preis: 75€• Jeder Teilnehmer bekommt einen Preis• Kurzes Blatt mit Wenz & Geier\n\nAm Samstag\, 30.11.2024 wird in Ebensfeld wieder „aufgekadd“! Ab 19:30 Uhr findet im Ebensfelder Feuerwehrhaus der alljährliche Preisschafkopf des Fördervereins der MVE statt. Bei Bier und Wörschd wird sich herausstellen\, wer der nächste Schafkopfmeister wird und wer sich auf das Preisgeld von 250€ freuen darf. Natürlich geht der Rest auch nicht mit leeren Händen nach Hause: Rainer Keller war in den letzten Monaten wieder auf Achse und hat etliche wertvolle Preise gesammelt. Auf ein gutes Blatt!
URL:https://musikvereinigung-ebensfeld.de/events/ebensfelder-preisschafkopf
LOCATION:Feuerwehrhaus Ebensfeld\, Rinnigstraße 2\, Ebensfeld\, Bayern\, 96250\, Deutschland
END:VEVENT
END:VCALENDAR