BEGIN:VCALENDAR
VERSION:2.0
PRODID:-//Musikvereinigung Ebensfeld e.V. - ECPv6.4.0.1//NONSGML v1.0//EN
CALSCALE:GREGORIAN
METHOD:PUBLISH
X-ORIGINAL-URL:https://musikvereinigung-ebensfeld.de
X-WR-CALDESC:Veranstaltungen für Musikvereinigung Ebensfeld e.V.
REFRESH-INTERVAL;VALUE=DURATION:PT1H
X-Robots-Tag:noindex
X-PUBLISHED-TTL:PT1H
BEGIN:VTIMEZONE
TZID:Europe/Berlin
BEGIN:DAYLIGHT
TZOFFSETFROM:+0100
TZOFFSETTO:+0200
TZNAME:CEST
DTSTART:20250330T010000
END:DAYLIGHT
BEGIN:STANDARD
TZOFFSETFROM:+0200
TZOFFSETTO:+0100
TZNAME:CET
DTSTART:20251026T010000
END:STANDARD
END:VTIMEZONE
BEGIN:VEVENT
DTSTART;TZID=Europe/Berlin:20250302T121500
DTEND;TZID=Europe/Berlin:20250302T140000
DTSTAMP:20260425T180057
CREATED:20250204T145516Z
LAST-MODIFIED:20250204T145516Z
UID:1738-1740917700-1740924000@musikvereinigung-ebensfeld.de
SUMMARY:Faschingsumzug im Kelbachgrund mit der MVE
DESCRIPTION:Am Faschingssonntag herrscht im Kelbachgrund der alljährliche Ausnahmezustand: Etliche Fußgruppen und aufwändig geschmückte Motivwägen lassen die unscheinbaren Ortschaften Oberküps\, Unterküps und Kleukheim zum „Narren-Mekka“ werden. Angeführt wird der Gaudiwurm von den Musikerinnen und Musikern der Musikvereinigung Ebensfeld. Der Startschuss fällt wie immer um 12:15 Uhr in Oberküps\, ehe der Zug um ca. 13:30 Uhr in Kleukheim eintrifft. Freut euch auf eine Mordsgaudi im Kelbachgrund! Wir sehen uns!
URL:https://musikvereinigung-ebensfeld.de/events/faschingsumzug-im-kelbachgrund-mit-der-mve
LOCATION:Kleukheim
END:VEVENT
BEGIN:VEVENT
DTSTART;TZID=Europe/Berlin:20250304T133000
DTEND;TZID=Europe/Berlin:20250304T143000
DTSTAMP:20260425T180057
CREATED:20250204T145904Z
LAST-MODIFIED:20250212T220425Z
UID:1740-1741095000-1741098600@musikvereinigung-ebensfeld.de
SUMMARY:Faschingsumzug in Ebensfeld mit der MVE
DESCRIPTION:Wenn der EKG ruft\, pilgern hunderte Narren Faschingsdienstag ins beschauliche Ebensfeld. So auch dieses Jahr am 04. März. Ab 13:30 Uhr zieht der Gaudiwurm aus zahlreichen Fußgruppen und Motivwägen – angeführt von den Musikerinnen und Musikern der MVE – vom Sportplatz über die Rosen- und Hauptstraße in Richtung Sämannsbrunnen\, ehe die Narren über die Oberbrunner und Untere Straße ihren Rückweg in Richtung Sportheim antreten. Wir sehen uns!
URL:https://musikvereinigung-ebensfeld.de/events/faschingsumzug-in-ebensfeld-mit-der-mve
LOCATION:Ebensfeld\, Ebensfeld\, Bayern\, 96250
END:VEVENT
BEGIN:VEVENT
DTSTART;TZID=Europe/Berlin:20250310T190000
DTEND;TZID=Europe/Berlin:20250310T203000
DTSTAMP:20260425T180057
CREATED:20241230T100553Z
LAST-MODIFIED:20250309T103931Z
UID:1732-1741633200-1741638600@musikvereinigung-ebensfeld.de
SUMMARY:Frühjahrsauftritt in der Rehaklinik Schwabthal mit "Bloos' A-Moll"
DESCRIPTION:Die Musikerinnen und Musiker von „Bloos‘ A-Moll“ sorgen am Montag\, den 10.03.2025 in der Rehaklinik Lautergrund Schwabthal für musikalische Unterhaltung. Zwischen 19:00 und 20:30 Uhr ist garantiert für jeden Besucher etwas geboten.
URL:https://musikvereinigung-ebensfeld.de/events/fruehjahrsauftritt-in-der-rehaklinik-schwabthal-mit-bloos-a-moll
LOCATION:Rehaklinik Schwabthal\, Oskar-Schramm-Straße 1\, Bad Staffelstein\, 96231\, Deutschland
END:VEVENT
BEGIN:VEVENT
DTSTART;TZID=Europe/Berlin:20250319T180000
DTEND;TZID=Europe/Berlin:20250319T200000
DTSTAMP:20260425T180057
CREATED:20241230T100937Z
LAST-MODIFIED:20241230T100937Z
UID:1734-1742407200-1742414400@musikvereinigung-ebensfeld.de
SUMMARY:Lichterprozession Ebensfeld
DESCRIPTION:Am Mittwoch\, 19. März findet in Ebensfeld wieder eine Lichterprozession zum Abschluss der Ewigen Anbetung statt. \nDer festliche Umgang wird wieder durch das Blasorchester der Musikvereinigung Ebensfeld begleitet.
URL:https://musikvereinigung-ebensfeld.de/events/lichterprozession-ebensfeld
LOCATION:Pfarrkirche Ebensfeld\, Kirchgasse 7\, Ebensfeld\, Bayern\, 96250\, Deutschland
END:VEVENT
BEGIN:VEVENT
DTSTART;TZID=Europe/Berlin:20250322T180000
DTEND;TZID=Europe/Berlin:20250323T000000
DTSTAMP:20260425T180057
CREATED:20250204T151821Z
LAST-MODIFIED:20250212T221640Z
UID:1742-1742666400-1742688000@musikvereinigung-ebensfeld.de
SUMMARY:Festbier-Anstich 100 Jahre Bergesklänge Witzmannsberg mit den "Ebensfelder Maascheißern"
DESCRIPTION:Am Samstag\, 22. März 2025 findet das Starkbierfest zum 100-jährigen Jubiläum der Bergesklänge in der Kulturhalle Witzmannsberg statt. Für die musikalische Unterhaltung ab 22 Uhr sorgen die „Ebensfelder Maascheißer“\, die neben traditioneller Blasmusik auch moderne Partystücke zum Besten geben. Aber auch zuvor gibt’s mit den Kapellen „Sprittertwingo“ und „Brassd scho“ schon einiges auf die Ohren. Die „Maascheißer“ garantieren beste Unterhaltung und sorgen für einen geselligen Abend mit zünftigen Schmankerln in authentischer Atmosphäre.
URL:https://musikvereinigung-ebensfeld.de/events/festbier-anstich-100-jahre-bergesklaenge-witzmannsberg-mit-den-ebensfelder-maascheissern
LOCATION:Kulturhalle Witzmannsberg\, Badstraße 20a\, Witzmannsberg\, Bayern\, 96482\, Deutschland
END:VEVENT
BEGIN:VEVENT
DTSTART;TZID=Europe/Berlin:20250323T170000
DTEND;TZID=Europe/Berlin:20250323T200000
DTSTAMP:20260425T180058
CREATED:20250310T094452Z
LAST-MODIFIED:20250310T100506Z
UID:1860-1742749200-1742760000@musikvereinigung-ebensfeld.de
SUMMARY:Konzert des Kreisorchesters Lichtenfels "Wenn der Teufel fiedelt - Ein Konzert voller Hoffnung"
DESCRIPTION:Nachdem wir das Kreisorchester Lichtenfels schon im Dezember in Ebensfeld willkommen heißen durften\, steht bereits am 23.03.2025 ein weitere Highlight an. 🙌 \n\nUnter dem Titel „Wenn der Teufel fiedelt – Ein Konzert voller Hoffnung“ erwartet alle Besucherinnen und Besucher in der Turnhalle Ebensfeld ein Konzertabend der besonderen Art. Ab 17 Uhr zeigen hierbei nicht nur das Kreisorchester\, sondern auch das dazugehörige Kreisjugendorchester ihr Können und verwandeln die Sporthalle in einen Konzertsaal. 🎼\nTickets sind ab sofort für 10€ (bis 14 Jahre: 5€) im Vorverkauf erhältlich. Der Abendkassenpreis beträgt 12€.\nVorverkauf: \n\nOnline unter: Link zum Vorverkauf\nTouristeninformation Lichtenfels\nKur & Tourismus Service Bad Staffelstein\nLottoannahmestelle in Altenkunstadt\n\n 
URL:https://musikvereinigung-ebensfeld.de/events/konzert-des-kreisorchesters-lichtenfels-wenn-der-teufel-fiedelt-ein-konzert-voller-hoffnung
LOCATION:Turnhalle Ebensfeld\, Rinnigstraße 4\, Ebensfeld\, 96250\, Deutschland
END:VEVENT
BEGIN:VEVENT
DTSTART;TZID=Europe/Berlin:20250329T183000
DTEND;TZID=Europe/Berlin:20250329T193000
DTSTAMP:20260425T180058
CREATED:20250318T091351Z
LAST-MODIFIED:20250318T091411Z
UID:1878-1743273000-1743276600@musikvereinigung-ebensfeld.de
SUMMARY:Jahreshauptversammlung des Fördervereins der Musikvereinigung Ebensfeld e.V.
DESCRIPTION:Einladung zur Jahreshauptversammlung 2025 des Fördervereins der Musikvereinigung Ebensfeld e.V. \nam Samstag\, 29.03.2025\, 18.30 Uhr im Feuerwehrhaus Ebensfeld \n  \nTagesordnung: \n\nBegrüßung durch den Vorstand\nVerlesung Protokoll der Jahreshauptversammlung 2024\nJahresrückblick\nBericht des Kassiers\nBericht der Kassenprüfer und Entlastung des Vorstands\nNeuwahlen\nWünsche\, Fragen und Sonstiges\n\n  \nDie Vorstandschaft des Fördervereins der Musikvereinigung Ebensfeld e.V. lädt hiermit alle Mitglieder herzlich zur Jahreshauptversammlung 2025 ein. \nJonas Weidner\, 1. Vorstand
URL:https://musikvereinigung-ebensfeld.de/events/jahreshauptversammlung-2025-des-foerdervereins-der-musikvereinigung-ebensfeld-e-v
LOCATION:Feuerwehrhaus Ebensfeld\, Rinnigstraße 2\, Ebensfeld\, Bayern\, 96250\, Deutschland
END:VEVENT
BEGIN:VEVENT
DTSTART;TZID=Europe/Berlin:20250329T193000
DTEND;TZID=Europe/Berlin:20250329T213000
DTSTAMP:20260425T180058
CREATED:20250204T151654Z
LAST-MODIFIED:20250318T091229Z
UID:1746-1743276600-1743283800@musikvereinigung-ebensfeld.de
SUMMARY:Generalversammlung der MVE im Ebensfelder Feuerwehrhaus
DESCRIPTION:Einladung zur Generalversammlung 2025 der Musikvereinigung Ebensfeld e.V.\nam Samstag\, 29. März 2025\, 19.30 Uhr im Feuerwehrhaus Ebensfeld\, Rinnigstraße 2\, 96250 Ebensfeld \nTagesordnung:\n1. Begrüßung und Eröffnung\n2. Totengedenken\n3. Verlesung Protokoll Generalversammlung 2024\n4. Bericht der Vorstandschaft\n5. Bericht der Dirigenten\n6. Bericht Ausbildung und Nachwuchsarbeit\n7. Bericht der Kassiererin\n8. Bericht der Kassenprüfer und Entlastung der Vorstandschaft\n9. Ehrungen\n10. Wünsche\, Fragen und Sonstiges \nDie Vorstandschaft der Musikvereinigung Ebensfeld e.V. lädt hiermit alle Mitglieder herzlich zur Generalversammlung 2025 ein. \nRudolf Dierauf\, 1. Vorstand
URL:https://musikvereinigung-ebensfeld.de/events/jahreshauptversammlung-der-mve-im-ebensfelder-feuerwehrhaus
LOCATION:Feuerwehrhaus Ebensfeld\, Rinnigstraße 2\, Ebensfeld\, Bayern\, 96250\, Deutschland
ORGANIZER;CN="Musikvereinigung Ebensfeld e.V.":MAILTO:info@musikvereinigung-ebensfeld.de
END:VEVENT
END:VCALENDAR