BEGIN:VCALENDAR
VERSION:2.0
PRODID:-//Musikvereinigung Ebensfeld e.V. - ECPv6.4.0.1//NONSGML v1.0//EN
CALSCALE:GREGORIAN
METHOD:PUBLISH
X-WR-CALNAME:Musikvereinigung Ebensfeld e.V.
X-ORIGINAL-URL:https://musikvereinigung-ebensfeld.de
X-WR-CALDESC:Veranstaltungen für Musikvereinigung Ebensfeld e.V.
REFRESH-INTERVAL;VALUE=DURATION:PT1H
X-Robots-Tag:noindex
X-PUBLISHED-TTL:PT1H
BEGIN:VTIMEZONE
TZID:Europe/Berlin
BEGIN:DAYLIGHT
TZOFFSETFROM:+0100
TZOFFSETTO:+0200
TZNAME:CEST
DTSTART:20250330T010000
END:DAYLIGHT
BEGIN:STANDARD
TZOFFSETFROM:+0200
TZOFFSETTO:+0100
TZNAME:CET
DTSTART:20251026T010000
END:STANDARD
END:VTIMEZONE
BEGIN:VEVENT
DTSTART;TZID=Europe/Berlin:20250702T130000
DTEND;TZID=Europe/Berlin:20250702T140000
DTSTAMP:20260423T153821
CREATED:20250625T134952Z
LAST-MODIFIED:20250625T134952Z
UID:2011-1751461200-1751464800@musikvereinigung-ebensfeld.de
SUMMARY:Richtfest des Klinikums Kutzenberg mit dem Blasorchester
DESCRIPTION:Das Blasorchester der Musikvereinigung Ebensfeld e.V. umrahmt das Richtfest des Klinikums Kutzenberg am 02. Juli um 13 Uhr musikalisch.
URL:https://musikvereinigung-ebensfeld.de/events/richtfest-des-klinikums-kutzenberg-mit-dem-blasorchester
LOCATION:Kutzenberg\, Kutzenberg\, Bayern\, 96250\, Deutschland
END:VEVENT
BEGIN:VEVENT
DTSTART;TZID=Europe/Berlin:20250705T190000
DTEND;TZID=Europe/Berlin:20250705T230000
DTSTAMP:20260423T153821
CREATED:20250625T135532Z
LAST-MODIFIED:20250625T135532Z
UID:2014-1751742000-1751756400@musikvereinigung-ebensfeld.de
SUMMARY:Kerwa in Prügel mit den Ebensfelder Maascheißern
DESCRIPTION:Die Ebensfelder Maascheißer spielen am Kerwassamstag\, 05.07.2025\, 19:00 Uhr auf der Prügler Kerwa!\nFreu dich auf abwechslungsreiche Blasmusik und eine gemütliche Kerwa-Atmosphäre. Wir freuen uns auf euren Besuch!
URL:https://musikvereinigung-ebensfeld.de/events/kerwa-in-pruegel-mit-den-ebensfelder-maascheissern
LOCATION:Kulturstadel Prügel\, Prügel\, Bayern\, 96264\, Deutschland
END:VEVENT
BEGIN:VEVENT
DTSTART;TZID=Europe/Berlin:20250706T140000
DTEND;TZID=Europe/Berlin:20250706T150000
DTSTAMP:20260423T153821
CREATED:20250625T135947Z
LAST-MODIFIED:20250625T135947Z
UID:2017-1751810400-1751814000@musikvereinigung-ebensfeld.de
SUMMARY:Festzug anlässlich 150 Jahre FFW Rentweinsdorf mit dem Blasorchester
DESCRIPTION:Das Blasorchester der MVE umrahmt den Festzug am 06. Juli anlässlich der 150 Jahr Feier der Feuerwehr Rentweinsdorf musikalisch.
URL:https://musikvereinigung-ebensfeld.de/events/festzug-anlaesslich-150-jahre-ffw-rentweinsdorf-mit-dem-blasorchester
LOCATION:Rentweinsdorf\, Rentweinsdorf\, Bayern\, 96184\, Deutschland
END:VEVENT
BEGIN:VEVENT
DTSTART;TZID=Europe/Berlin:20250709T180000
DTEND;TZID=Europe/Berlin:20250709T220000
DTSTAMP:20260423T153821
CREATED:20250625T140621Z
LAST-MODIFIED:20250625T141532Z
UID:2020-1752084000-1752098400@musikvereinigung-ebensfeld.de
SUMMARY:"Feierohmd undä deä Lindn" mit den Ebensfelder Maascheißern
DESCRIPTION:Am Mittwoch\, 09. Juli\, ab 18:00 Uhr spielen die Ebensfelder Maascheißer beim „Feierohmd undä deä Lindn“ in Ebensfeld.\nFreut euch auf entspannte Blasmusik und einen gemütlichen Abend unter der Linde. Wir freuen uns auf euch!
URL:https://musikvereinigung-ebensfeld.de/events/feierohmd-undae-deae-lindn-mit-den-ebensfelder-maascheissern
LOCATION:Friedenslinde\, Friedenslinde 1\, Ebensfeld\, Bayern\, 96250\, Deutschland
END:VEVENT
BEGIN:VEVENT
DTSTART;TZID=Europe/Berlin:20250715T183000
DTEND;TZID=Europe/Berlin:20250715T223000
DTSTAMP:20260423T153821
CREATED:20250708T001944Z
LAST-MODIFIED:20250714T162829Z
UID:2025-1752604200-1752618600@musikvereinigung-ebensfeld.de
SUMMARY:Unterhaltungsmusik auf dem Lichtenfelser Schützenfest mit dem Blasorchester Ebensfeld
DESCRIPTION:Endlich ist es wieder soweit: Das Lichtenfelser Schützenfest geht in die nächste Runde! Mit dabei ist natürlich auch wieder die Musikvereinigung Ebensfeld e.V.\, die in diesem Jahr gleich dreimal im Schützengarten für Unterhaltung sorgen darf. Den Beginn macht das Blasorchester Ebensfeld am Dienstag\, den 15. Juli\, ab 18:30. Bereits zwei Tage später\, am darauffolgenden Donnerstag\, umrahmen die Musikerinnen und Musiker nicht nur den Kinderfestzug um 13:45 Uhr musikalisch\, sondern laden auch im Anschluss bei einem abwechslungsreichen Programm zum Verweilen im Biergarten ein. Aber das war’s für die Ebensfelder Musikanten noch lange nicht. Am Samstag\, den 19. Juli geht es mit „Bloos‘ A-Moll“ in den Endspurt. Ab 14:00 Uhr ist hier sicherlich für jeden Blasmusikliebhaber das passende Genre dabei. Wir sehen uns\, bis bald!
URL:https://musikvereinigung-ebensfeld.de/events/unterhaltungsmusik-auf-dem-lichtenfelser-schuetzenfest-mit-dem-blasorchester-ebensfeld-2
LOCATION:Schützenfest Lichtenfels\, Schützenstraße 1\, Lichtenfels\, 96215\, Deutschland
END:VEVENT
BEGIN:VEVENT
DTSTART;TZID=Europe/Berlin:20250717T134500
DTEND;TZID=Europe/Berlin:20250717T180000
DTSTAMP:20260423T153821
CREATED:20250708T002053Z
LAST-MODIFIED:20250714T162812Z
UID:2027-1752759900-1752775200@musikvereinigung-ebensfeld.de
SUMMARY:Kinderfestzug und Biergartenmusik mit dem Blasorchester Ebensfeld auf dem Lichtenfelser Schützenfest
DESCRIPTION:Endlich ist es wieder soweit: Das Lichtenfelser Schützenfest geht in die nächste Runde! Mit dabei ist natürlich auch wieder die Musikvereinigung Ebensfeld e.V.\, die in diesem Jahr gleich dreimal im Schützengarten für Unterhaltung sorgen darf. Den Beginn macht das Blasorchester Ebensfeld am Dienstag\, den 15. Juli\, ab 18:30. Bereits zwei Tage später\, am darauffolgenden Donnerstag\, umrahmen die Musikerinnen und Musiker nicht nur den Kinderfestzug um 13:45 Uhr musikalisch\, sondern laden auch im Anschluss bei einem abwechslungsreichen Programm zum Verweilen im Biergarten ein. Aber das war’s für die Ebensfelder Musikanten noch lange nicht. Am Samstag\, den 19. Juli geht es mit „Bloos‘ A-Moll“ in den Endspurt. Ab 14:00 Uhr ist hier sicherlich für jeden Blasmusikliebhaber das passende Genre dabei. Wir sehen uns\, bis bald!
URL:https://musikvereinigung-ebensfeld.de/events/kinderfestzug-und-biergartenmusik-mit-dem-blasorchester-ebensfeld-auf-dem-lichtenfelser-schuetzenfest-2
LOCATION:Schützenfest Lichtenfels\, Schützenstraße 1\, Lichtenfels\, 96215\, Deutschland
END:VEVENT
BEGIN:VEVENT
DTSTART;TZID=Europe/Berlin:20250719T140000
DTEND;TZID=Europe/Berlin:20250719T163000
DTSTAMP:20260423T153821
CREATED:20250708T002149Z
LAST-MODIFIED:20250714T162751Z
UID:2029-1752933600-1752942600@musikvereinigung-ebensfeld.de
SUMMARY:Unterhaltungsnachmittag mit Bloos‘ A-Moll auf dem Schützenfest Lichtenfels
DESCRIPTION:Endlich ist es wieder soweit: Das Lichtenfelser Schützenfest geht in die nächste Runde! Mit dabei ist natürlich auch wieder die Musikvereinigung Ebensfeld e.V.\, die in diesem Jahr gleich dreimal im Schützengarten für Unterhaltung sorgen darf. Den Beginn macht das Blasorchester Ebensfeld am Dienstag\, den 15. Juli\, ab 18:30. Bereits zwei Tage später\, am darauffolgenden Donnerstag\, umrahmen die Musikerinnen und Musiker nicht nur den Kinderfestzug um 13:45 Uhr musikalisch\, sondern laden auch im Anschluss bei einem abwechslungsreichen Programm zum Verweilen im Biergarten ein. Aber das war’s für die Ebensfelder Musikanten noch lange nicht. Am Samstag\, den 19. Juli geht es mit „Bloos‘ A-Moll“ in den Endspurt. Ab 14:00 Uhr ist hier sicherlich für jeden Blasmusikliebhaber das passende Genre dabei. Wir sehen uns\, bis bald!
URL:https://musikvereinigung-ebensfeld.de/events/unterhaltungsnachmittag-mit-bloos-a-moll-auf-dem-schuetzenfest-lichtenfels-2
LOCATION:Schützenfest Lichtenfels\, Schützenstraße 1\, Lichtenfels\, 96215\, Deutschland
END:VEVENT
BEGIN:VEVENT
DTSTART;TZID=Europe/Berlin:20250725T180000
DTEND;TZID=Europe/Berlin:20250725T235900
DTSTAMP:20260423T153821
CREATED:20250708T002433Z
LAST-MODIFIED:20250708T002433Z
UID:2032-1753466400-1753487940@musikvereinigung-ebensfeld.de
SUMMARY:Sommerfest der aktiven Musikerinnen und Musiker der MVE
DESCRIPTION:Sommerfest der aktiven Musikerinnen und Musiker der MVE im Hof der Pater-Lunkenbein-Schule Ebensfeld (Anmeldung über den Konzertmeister bis 18. Juli)
URL:https://musikvereinigung-ebensfeld.de/events/sommerfest-der-aktiven-musikerinnen-und-musiker-der-mve
LOCATION:Pater-Lunkenbein-Schule Ebensfeld\, Rinnigstraße 5\, Ebensfeld\, 96250\, Deutschland
END:VEVENT
BEGIN:VEVENT
DTSTART;TZID=Europe/Berlin:20250727T103000
DTEND;TZID=Europe/Berlin:20250727T120000
DTSTAMP:20260423T153821
CREATED:20250708T002608Z
LAST-MODIFIED:20250722T134258Z
UID:2034-1753612200-1753617600@musikvereinigung-ebensfeld.de
SUMMARY:Jugendkonzert der MVE in der Pater-Lunkenbein-Schule Ebensfeld
DESCRIPTION:Herzliche Einladung zum Jugendkonzert der MVE am kommenden Sonntag \n\n\n\nOb jung oder schon etwas lebensälter. Bei uns findet jeder\, der Spaß am Musizieren hat\, seinen Platz. Wenn ihr wissen wollt\, was unser Nachwuchs schon „drauf“ hat\, schaut gerne beim Jugendkonzert der MVE am kommenden Sonntag\, 27.07. ab 10:30 Uhr in der Ebensfelder Schule vorbei.\nDie Jungmusikerinnen und -musiker freuen sich auf euch
URL:https://musikvereinigung-ebensfeld.de/events/jugendkonzert-der-mve-in-der-pater-lunkenbein-schule-ebensfeld
LOCATION:Pater-Lunkenbein-Schule Ebensfeld\, Rinnigstraße 5\, Ebensfeld\, 96250\, Deutschland
END:VEVENT
END:VCALENDAR