BEGIN:VCALENDAR
VERSION:2.0
PRODID:-//Musikvereinigung Ebensfeld e.V. - ECPv6.4.0.1//NONSGML v1.0//EN
CALSCALE:GREGORIAN
METHOD:PUBLISH
X-ORIGINAL-URL:https://musikvereinigung-ebensfeld.de
X-WR-CALDESC:Veranstaltungen für Musikvereinigung Ebensfeld e.V.
REFRESH-INTERVAL;VALUE=DURATION:PT1H
X-Robots-Tag:noindex
X-PUBLISHED-TTL:PT1H
BEGIN:VTIMEZONE
TZID:Europe/Berlin
BEGIN:DAYLIGHT
TZOFFSETFROM:+0100
TZOFFSETTO:+0200
TZNAME:CEST
DTSTART:20250330T010000
END:DAYLIGHT
BEGIN:STANDARD
TZOFFSETFROM:+0200
TZOFFSETTO:+0100
TZNAME:CET
DTSTART:20251026T010000
END:STANDARD
END:VTIMEZONE
BEGIN:VEVENT
DTSTART;TZID=Europe/Berlin:20250815T091500
DTEND;TZID=Europe/Berlin:20250815T101500
DTSTAMP:20260423T134758
CREATED:20250708T002853Z
LAST-MODIFIED:20250708T002853Z
UID:2036-1755249300-1755252900@musikvereinigung-ebensfeld.de
SUMMARY:Flurumgang am Patronatsfest Unterbrunn mit Bloos‘ A-Moll
DESCRIPTION:Am 15. August wird in Unterbrunn jährlich das Patronatsfest gefeiert. Anlässlich dieses besonderen Tages findet auch in diesem Jahr wieder der traditionelle Flurumgang statt\, welcher musikalisch durch die Musikerinnen und Musiker von Bloos‘ A-Moll gestaltet wird.
URL:https://musikvereinigung-ebensfeld.de/events/flurumgang-am-patronatsfest-unterbrunn-mit-bloos-a-moll-2
LOCATION:Unterbrunn\, Unterbrunn\, 96250\, Deutschland
END:VEVENT
BEGIN:VEVENT
DTSTART;TZID=Europe/Berlin:20250815T100000
DTEND;TZID=Europe/Berlin:20250815T130000
DTSTAMP:20260423T134758
CREATED:20250708T003456Z
LAST-MODIFIED:20250708T003456Z
UID:2041-1755252000-1755262800@musikvereinigung-ebensfeld.de
SUMMARY:Frühschoppen am Bierbrauerfest Bad Staffelstein mit dem Blasorchester Ebensfeld
DESCRIPTION:Einer der Feier-Höhepunkte im Jahreslauf der Adam Riese-Stadt Bad Staffelstein ist das Bierbrauerfest auf dem Marktplatz\, welches Jahr für Jahr tausende durstige Kehlen aus nah und fern anlockt. Auch am diesjährigen Feiertag zu Mariä Himmelfahrt (15.08.2025) ist es wieder soweit: Pünktlich um 10 Uhr fließen die ersten Tropfen flüssiges Gold aus den Fässern der zehn Staffelsteiner Brauereien. Für einen zünftigen Frühschoppen darf aber natürlich auch die passende Blasmusik nicht fehlen: Das Blasorchester Ebensfeld stimmt die Besucher mit einer bunten Mischung aus traditioneller Blasmusik\, Evergreens der letzten Jahrzehnte und modernen Pophits musikalisch auf den Tag am Staffelsteiner Rathaus ein.
URL:https://musikvereinigung-ebensfeld.de/events/fruehschoppen-am-bierbrauerfest-bad-staffelstein-mit-dem-blasorchester-ebensfeld-2
LOCATION:Marktplatz Bad Staffelstein\, Marktplatz 1\, Bad Staffelstein\, Bayern\, 96231\, Deutschland
END:VEVENT
BEGIN:VEVENT
DTSTART;TZID=Europe/Berlin:20250815T160000
DTEND;TZID=Europe/Berlin:20250815T210000
DTSTAMP:20260423T134758
CREATED:20250708T003613Z
LAST-MODIFIED:20250708T003613Z
UID:2043-1755273600-1755291600@musikvereinigung-ebensfeld.de
SUMMARY:Unterhaltungsauftritt im Biergarten „Zum Wölf“ in Unterbrunn mit „Bloos‘ A-Moll“
DESCRIPTION:Am Donnerstag\, den 15.08.2025 spielt Bloos‘ A-Moll zu einem unterhaltsamen Nachmittag im Biergarten „Zum Wölf“ in Unterbrunn auf. Zwischen 16:00 und 21:00 Uhr erwartet die Zuhörer ein buntes Programm von traditioneller bis moderner Blasmusik. Die Musikvereinigung Ebensfeld e.V. freut sich auf euren Besuch!
URL:https://musikvereinigung-ebensfeld.de/events/unterhaltungsauftritt-im-biergarten-zum-woelf-in-unterbrunn-mit-bloos-a-moll-2
LOCATION:Wirtshaus zum Wölf\, Dorfstraße 21\, Ebensfeld\, 96250\, Deutschland
END:VEVENT
BEGIN:VEVENT
DTSTART;TZID=Europe/Berlin:20250828T170000
DTEND;TZID=Europe/Berlin:20250828T230000
DTSTAMP:20260423T134758
CREATED:20250708T005659Z
LAST-MODIFIED:20250708T005659Z
UID:2045-1756400400-1756422000@musikvereinigung-ebensfeld.de
SUMMARY:Festkommers anlässlich 125 Jahre Feuerwehr Wolfsdorf mit den Ebensfelder Maascheißern
DESCRIPTION:Die Ebensfelder Maascheißer umrahmen den Festkommers anlässlich des 125-jährigen Bestehens der Feuerwehr Wolfsdorf am 28.08. musikalisch. Weitere Infos folgen.
URL:https://musikvereinigung-ebensfeld.de/events/festkommers-anlaesslich-125-jahre-feuerwehr-wolfsdorf-mit-den-ebensfelder-maascheissern
LOCATION:Wolfsdorf\, Wolfsdorf\, Bayern\, 96231\, Deutschland
END:VEVENT
BEGIN:VEVENT
DTSTART;VALUE=DATE:20250831
DTEND;VALUE=DATE:20250901
DTSTAMP:20260423T134758
CREATED:20250708T005913Z
LAST-MODIFIED:20250708T005913Z
UID:2048-1756598400-1756684799@musikvereinigung-ebensfeld.de
SUMMARY:Festzug anlässlich des Feuerwehrfests in Wolfsdorf mit dem Blasorchester Ebensfeld
DESCRIPTION:Am Wochenende vom 28.08. bis 01.09. feiert die Freiwillige Feuerwehr Wolfsdorf ihr 125-jähriges Jubiläum. Einer der Höhepunkte hierbei wird sicherlich der Festzug am Festsonntag sein. Das Blasorchester der Musikvereinigung Ebensfeld e.V. sorgt hierbei nicht nur für die musikalische Umrahmung\, sondern auch für den richtigen Rhythmus.
URL:https://musikvereinigung-ebensfeld.de/events/festzug-anlaesslich-des-feuerwehrfests-in-wolfsdorf-mit-dem-blasorchester-ebensfeld
LOCATION:Wolfsdorf\, Wolfsdorf\, Bayern\, 96231\, Deutschland
END:VEVENT
END:VCALENDAR