BEGIN:VCALENDAR
VERSION:2.0
PRODID:-//Musikvereinigung Ebensfeld e.V. - ECPv6.4.0.1//NONSGML v1.0//EN
CALSCALE:GREGORIAN
METHOD:PUBLISH
X-WR-CALNAME:Musikvereinigung Ebensfeld e.V.
X-ORIGINAL-URL:https://musikvereinigung-ebensfeld.de
X-WR-CALDESC:Veranstaltungen für Musikvereinigung Ebensfeld e.V.
REFRESH-INTERVAL;VALUE=DURATION:PT1H
X-Robots-Tag:noindex
X-PUBLISHED-TTL:PT1H
BEGIN:VTIMEZONE
TZID:Europe/Berlin
BEGIN:DAYLIGHT
TZOFFSETFROM:+0100
TZOFFSETTO:+0200
TZNAME:CEST
DTSTART:20250330T010000
END:DAYLIGHT
BEGIN:STANDARD
TZOFFSETFROM:+0200
TZOFFSETTO:+0100
TZNAME:CET
DTSTART:20251026T010000
END:STANDARD
END:VTIMEZONE
BEGIN:VEVENT
DTSTART;TZID=Europe/Berlin:20251101T140000
DTEND;TZID=Europe/Berlin:20251101T150000
DTSTAMP:20260421T131600
CREATED:20251014T163008Z
LAST-MODIFIED:20251014T163008Z
UID:2195-1762005600-1762009200@musikvereinigung-ebensfeld.de
SUMMARY:Musikalische Umrahmung des Friedhofgangs in Ebensfeld
DESCRIPTION:Die Musikerinnen und Musiker der Musikvereinigung Ebensfeld e.V. umrahmen den alljährlichen Friedhofsgang an Allerheiligen musikalisch. Beginn ist um 14:00 Uhr auf dem Ebensfelder Friedhof.
URL:https://musikvereinigung-ebensfeld.de/events/musikalische-umrahmung-des-friedhofgangs-in-ebensfeld
LOCATION:Friedhof Ebensfeld\, Prächtinger Straße 19\, Ebensfeld\, Bayern\, 96250\, Deutschland
END:VEVENT
BEGIN:VEVENT
DTSTART;TZID=Europe/Berlin:20251108T190000
DTEND;TZID=Europe/Berlin:20251108T220000
DTSTAMP:20260421T131600
CREATED:20251014T163310Z
LAST-MODIFIED:20251014T163310Z
UID:2197-1762628400-1762639200@musikvereinigung-ebensfeld.de
SUMMARY:Herbstkonzert der Musikvereinigung Ebensfeld e.V.
DESCRIPTION:Am Samstag\, 8. November 2025 lädt die Musikvereinigung Ebensfeld e.V. zum diesjährigen Herbstkonzert unter dem Motto „Episch“ in die Turnhalle Ebensfeld ein. Beginn ist um 19:00 Uhr\, Einlass ab 18:00 Uhr. Freuen Sie sich auf ein klanggewaltiges Programm voller Emotion\, Spannung und musikalischer Gänsehautmomente. Die Musikerinnen und Musiker der Musikvereinigung nehmen Sie mit auf eine eindrucksvolle Reise durch epische Melodien und monumentale Klangwelten. Der Eintritt ist frei.
URL:https://musikvereinigung-ebensfeld.de/events/herbstkonzert-der-musikvereinigung-ebensfeld-e-v
LOCATION:Turnhalle Ebensfeld\, Rinnigstraße 4\, Ebensfeld\, 96250\, Deutschland
ATTACH;FMTTYPE=image/png:https://musikvereinigung-ebensfeld.de/wp-content/uploads/2025/10/Plakat-Herbstkonzert-2025-1920-x-1080-px.png
ORGANIZER;CN="Musikvereinigung Ebensfeld e.V.":MAILTO:info@musikvereinigung-ebensfeld.de
END:VEVENT
BEGIN:VEVENT
DTSTART;TZID=Europe/Berlin:20251115T150000
DTEND;TZID=Europe/Berlin:20251115T170000
DTSTAMP:20260421T131600
CREATED:20251022T152115Z
LAST-MODIFIED:20251022T152115Z
UID:2202-1763218800-1763226000@musikvereinigung-ebensfeld.de
SUMMARY:Hofwintermarkt in Unnersdorf mit Bloos' A-Moll
DESCRIPTION:Am Samstag\, 15.11.2025 findet der 3. Hofwintermarkt in Unnersdorf statt. Neben zahlreichen Ausstellern und weiteren Angeboten für Jung und Alt\, ist auch Bloos‘ A-Moll mit von der Partie. Ab 15:00 Uhr sorgt das Ensemble der Musikvereinigung Ebensfeld e.V. für musikalische Unterhaltung und besinnliche Klänge.
URL:https://musikvereinigung-ebensfeld.de/events/hofwintermarkt-in-unnersdorf-mit-bloos-a-moll
LOCATION:Caramale – Dekohaus am alten Weinberg\, Weinbergstraße 4\, Bad Staffelstein\, 96231\, Germany
ORGANIZER;CN="Caramale - Dekohaus am alten Weinberg":MAILTO:info@caramale.de
END:VEVENT
BEGIN:VEVENT
DTSTART;TZID=Europe/Berlin:20251116T100000
DTEND;TZID=Europe/Berlin:20251116T120000
DTSTAMP:20260421T131600
CREATED:20251022T154800Z
LAST-MODIFIED:20251022T154800Z
UID:2207-1763287200-1763294400@musikvereinigung-ebensfeld.de
SUMMARY:Musikalische Umrahmung des Volkstrauertags durch die MVE
DESCRIPTION:Die Musikvereinigung umrahmt die alljährlichen Feierlichkeiten zum Volkstrauertag am Sonntag\, den 16.11.2025. Nach dem Gottesdienst findet eine kurze Gedenkveranstaltung am Kriegerdenkmal neben der Ebensfelder Pfarrkirche statt.
URL:https://musikvereinigung-ebensfeld.de/events/musikalische-umrahmung-des-volkstrauertags-durch-die-mve-2
LOCATION:Pfarrkirche Ebensfeld\, Kirchgasse 7\, Ebensfeld\, Bayern\, 96250\, Deutschland
END:VEVENT
BEGIN:VEVENT
DTSTART;TZID=Europe/Berlin:20251123T100000
DTEND;TZID=Europe/Berlin:20251123T110000
DTSTAMP:20260421T131600
CREATED:20251022T154901Z
LAST-MODIFIED:20251119T154405Z
UID:2209-1763892000-1763895600@musikvereinigung-ebensfeld.de
SUMMARY:Cäcilia-Gedenkgottesdienst in Ebensfeld
DESCRIPTION:Am Sonntag\, 23.11.2025\, laden wir herzlich zum Cäcilia-Gottesdienst um 10 Uhr in der Pfarrkirche Ebensfeld ein. Der Gottesdienst steht ganz im Zeichen der heiligen Cäcilia\, der Schutzpatronin der Musiker und Kirchenmusik. \nMusikalisch umrahmt wird der Gottesdienst vom Blasorchester Ebensfeld\, das mit seinen Klängen und mit Gesang die besondere Verbindung von Musik und Spiritualität feiert. Kommt vorbei und erlebt mit uns ein festliches musikalisches Gemeinschaftserlebnis!
URL:https://musikvereinigung-ebensfeld.de/events/caecilia-gedenkgottesdienst-in-ebensfeld-2
LOCATION:Pfarrkirche Ebensfeld\, Kirchgasse 7\, Ebensfeld\, Bayern\, 96250\, Deutschland
END:VEVENT
BEGIN:VEVENT
DTSTART;TZID=Europe/Berlin:20251129T193000
DTEND;TZID=Europe/Berlin:20251129T233000
DTSTAMP:20260421T131600
CREATED:20251022T155133Z
LAST-MODIFIED:20251022T155133Z
UID:2211-1764444600-1764459000@musikvereinigung-ebensfeld.de
SUMMARY:Ebensfelder Preisschafkopf
DESCRIPTION:>>> Ebensfelder Preisschafkopf 2025 <<< \n• Samstag\, 29.11.2025\n• Feuerwehrhaus Ebensfeld (Rinnigstraße 2)\n• Startgebühr: 10€\n• 1. Preis: 250€ / 2. Preis: 150€ / 3. Preis: 75€\n• Jeder Teilnehmer bekommt einen Preis\n• Kurzes Blatt mit Wenz & Geier \nAm Samstag\, 29.11.2025 wird in Ebensfeld wieder „aufgekadd“! Ab 19:30 Uhr findet im Ebensfelder Feuerwehrhaus der alljährliche Preisschafkopf des Fördervereins der MVE statt. Bei Bier und Wörschd wird sich herausstellen\, wer der nächste Schafkopfmeister wird und wer sich auf das Preisgeld von 250€ freuen darf. Natürlich geht der Rest auch nicht mit leeren Händen nach Hause: Rainer Keller war in den letzten Monaten wieder auf Achse und hat etliche wertvolle Preise gesammelt. Auf ein gutes Blatt!
URL:https://musikvereinigung-ebensfeld.de/events/ebensfelder-preisschafkopf-2
LOCATION:Feuerwehrhaus Ebensfeld\, Rinnigstraße 2\, Ebensfeld\, Bayern\, 96250\, Deutschland
ATTACH;FMTTYPE=image/png:https://musikvereinigung-ebensfeld.de/wp-content/uploads/2025/10/Preisschafkopf-2025Plakat-30.1-x-42.4-cm-1920-x-1080-px.png
END:VEVENT
END:VCALENDAR